BEGIN:VCALENDAR
VERSION:2.0
PRODID:-//Meaux//NONSGML v1.0//EN
CALSCALE:GREGORIAN
METHOD:PUBLISH
X-ORIGINAL-URL:https://www.cathocoulommiers.fr
BEGIN:VEVENT
DTSTART;VALUE=DATE:20240316
DTEND;VALUE=DATE:20240317
DTSTAMP:20260424T182251Z
CREATED:20240115
LAST-MODIFIED:20240115
UID:69ebb4fb2eef5-meaux
SUMMARY:Week-end en abbaye : Découverte de la vie monastique
DESCRIPTION:Week-end en abbaye : Découverte de la vie monastique
URL:https://www.cathocoulommiers.fr/evenement/week-end-en-abbaye-decouverte-de-la-vie-monastique/
ATTACH;FMTTYPE=image/png:https://www.cathocoulommiers.fr/wp-content/uploads/sites/3/2024/01/abbaye-val-digny.png
END:VEVENT
END:VCALENDAR
