BEGIN:VCALENDAR
VERSION:2.0
PRODID:-//Meaux//NONSGML v1.0//EN
CALSCALE:GREGORIAN
METHOD:PUBLISH
X-ORIGINAL-URL:https://www.cathocoulommiers.fr
BEGIN:VEVENT
DTSTART;VALUE=DATE:20240210
DTEND;VALUE=DATE:20240210
DTSTAMP:20260424T182825Z
CREATED:20240124
LAST-MODIFIED:20240124
UID:69ebb649970bf-meaux
SUMMARY:Bourse d'échange de livres
DESCRIPTION:Bourse d'échange de livres
URL:https://www.cathocoulommiers.fr/evenement/bourse-dechange-de-livres/
ATTACH;FMTTYPE=image/jpeg:https://www.cathocoulommiers.fr/wp-content/uploads/sites/3/2024/01/bourse-livres.jpg
END:VEVENT
END:VCALENDAR
