BEGIN:VCALENDAR
VERSION:2.0
PRODID:-//Meaux//NONSGML v1.0//EN
CALSCALE:GREGORIAN
METHOD:PUBLISH
X-ORIGINAL-URL:https://www.cathocoulommiers.fr
BEGIN:VEVENT
DTSTART;VALUE=DATE:20240226
DTEND;VALUE=DATE:20240325
DTSTAMP:20260424T163506Z
CREATED:20240208
LAST-MODIFIED:20240208
UID:69eb9bba1847f-meaux
SUMMARY:Le miracle de la gratitude
DESCRIPTION:Le miracle de la gratitude
URL:https://www.cathocoulommiers.fr/evenement/le-miracle-de-la-gratitude/
ATTACH;FMTTYPE=image/png:https://www.cathocoulommiers.fr/wp-content/uploads/sites/3/2024/02/miracle-gratitude.png
END:VEVENT
END:VCALENDAR
