BEGIN:VCALENDAR
VERSION:2.0
PRODID:-//Meaux//NONSGML v1.0//EN
CALSCALE:GREGORIAN
METHOD:PUBLISH
X-ORIGINAL-URL:https://www.cathocoulommiers.fr
BEGIN:VEVENT
DTSTART;VALUE=DATE:20240421
DTEND;VALUE=DATE:20240421
DTSTAMP:20260424T150255Z
CREATED:20240325
LAST-MODIFIED:20240325
UID:69eb861fd03b9-meaux
SUMMARY:Rando-clochers
DESCRIPTION:Rando-clochers
URL:https://www.cathocoulommiers.fr/evenement/rando-clochers/
ATTACH;FMTTYPE=image/png:https://www.cathocoulommiers.fr/wp-content/uploads/sites/3/2024/03/randoclocher-20240421.png
END:VEVENT
END:VCALENDAR
