BEGIN:VCALENDAR
VERSION:2.0
PRODID:-//Meaux//NONSGML v1.0//EN
CALSCALE:GREGORIAN
METHOD:PUBLISH
X-ORIGINAL-URL:https://www.cathocoulommiers.fr
BEGIN:VEVENT
DTSTART;VALUE=DATE:20240818
DTEND;VALUE=DATE:20240822
DTSTAMP:20260424T145746Z
CREATED:20240325
LAST-MODIFIED:20240325
UID:69eb84eaa74aa-meaux
SUMMARY:Pélé VTT Seine-et-Marne 2024
DESCRIPTION:Pélé VTT Seine-et-Marne 2024
URL:https://www.cathocoulommiers.fr/evenement/pele-vtt-seine-et-marne-2024/
ATTACH;FMTTYPE=image/png:https://www.cathocoulommiers.fr/wp-content/uploads/sites/3/2024/03/pele-vtt-2024.png
END:VEVENT
END:VCALENDAR
