BEGIN:VCALENDAR
VERSION:2.0
PRODID:-//Meaux//NONSGML v1.0//EN
CALSCALE:GREGORIAN
METHOD:PUBLISH
X-ORIGINAL-URL:https://www.cathocoulommiers.fr
BEGIN:VEVENT
DTSTART;VALUE=DATE:20240823
DTEND;VALUE=DATE:20240824
DTSTAMP:20260424T145914Z
CREATED:20240411
LAST-MODIFIED:20240411
UID:69eb8542b0c54-meaux
SUMMARY:Festival Christ en scène
DESCRIPTION:Festival Christ en scène
URL:https://www.cathocoulommiers.fr/evenement/festival-christ-en-scene/
ATTACH;FMTTYPE=image/png:https://www.cathocoulommiers.fr/wp-content/uploads/sites/3/2024/04/2024-festival-christ-en-scene.png
END:VEVENT
END:VCALENDAR
