BEGIN:VCALENDAR
VERSION:2.0
PRODID:-//Meaux//NONSGML v1.0//EN
CALSCALE:GREGORIAN
METHOD:PUBLISH
X-ORIGINAL-URL:https://www.cathocoulommiers.fr
BEGIN:VEVENT
DTSTART;VALUE=DATE:20240623
DTEND;VALUE=DATE:20240623
DTSTAMP:20260424T130645Z
CREATED:20240528
LAST-MODIFIED:20240528
UID:69eb6ae589048-meaux
SUMMARY:Ordinations sacerdotales
DESCRIPTION:Ordinations sacerdotales
URL:https://www.cathocoulommiers.fr/evenement/ordinations-sacerdotales/
ATTACH;FMTTYPE=image/jpeg:https://www.cathocoulommiers.fr/wp-content/uploads/sites/3/2024/05/affiche-ordinations-juin-2024.jpg
END:VEVENT
END:VCALENDAR
