BEGIN:VCALENDAR
VERSION:2.0
PRODID:-//Meaux//NONSGML v1.0//EN
CALSCALE:GREGORIAN
METHOD:PUBLISH
X-ORIGINAL-URL:https://www.cathocoulommiers.fr
BEGIN:VEVENT
DTSTART;VALUE=DATE:20250205
DTEND;VALUE=DATE:20250205
DTSTAMP:20260425T010150Z
CREATED:20250103
LAST-MODIFIED:20250103
UID:69ec127e7e5c5-meaux
SUMMARY:Soirée œcuménique
DESCRIPTION:Soirée œcuménique
URL:https://www.cathocoulommiers.fr/evenement/soiree-oecumenique-2/
ATTACH;FMTTYPE=image/jpeg:https://www.cathocoulommiers.fr/wp-content/uploads/sites/3/2025/01/semaine-priere-unite-2025.jpg
END:VEVENT
END:VCALENDAR
