BEGIN:VCALENDAR
VERSION:2.0
PRODID:-//Meaux//NONSGML v1.0//EN
CALSCALE:GREGORIAN
METHOD:PUBLISH
X-ORIGINAL-URL:https://www.cathocoulommiers.fr
BEGIN:VEVENT
DTSTART;VALUE=DATE:20250208
DTEND;VALUE=DATE:20250208
DTSTAMP:20260424T112325Z
CREATED:20250205
LAST-MODIFIED:20250205
UID:69eb52ad1b56e-meaux
SUMMARY:Bourse aux livres
DESCRIPTION:Bourse aux livres
URL:https://www.cathocoulommiers.fr/evenement/bourse-aux-livres/
ATTACH;FMTTYPE=image/jpeg:https://www.cathocoulommiers.fr/wp-content/uploads/sites/3/2025/02/bourse-aux-livres.jpg
END:VEVENT
END:VCALENDAR
