BEGIN:VCALENDAR
VERSION:2.0
PRODID:-//Meaux//NONSGML v1.0//EN
CALSCALE:GREGORIAN
METHOD:PUBLISH
X-ORIGINAL-URL:https://www.cathocoulommiers.fr
BEGIN:VEVENT
DTSTART;VALUE=DATE:20250209
DTEND;VALUE=DATE:20250209
DTSTAMP:20260424T113045Z
CREATED:20250205
LAST-MODIFIED:20250205
UID:69eb54653cdca-meaux
SUMMARY:Un concert au siècle des lumières
DESCRIPTION:Un concert au siècle des lumières
URL:https://www.cathocoulommiers.fr/evenement/un-concert-au-siecle-des-lumieres/
ATTACH;FMTTYPE=image/jpeg:https://www.cathocoulommiers.fr/wp-content/uploads/sites/3/2025/02/instrument.jpg
END:VEVENT
END:VCALENDAR
