BEGIN:VCALENDAR
VERSION:2.0
PRODID:-//Meaux//NONSGML v1.0//EN
CALSCALE:GREGORIAN
METHOD:PUBLISH
X-ORIGINAL-URL:https://www.cathocoulommiers.fr
BEGIN:VEVENT
DTSTART;VALUE=DATE:20250305
DTEND;VALUE=DATE:20250305
DTSTAMP:20260424T095532Z
CREATED:20250304
LAST-MODIFIED:20250304
UID:69eb3e14e8779-meaux
SUMMARY:Mercredi des Cendres
DESCRIPTION:Mercredi des Cendres
URL:https://www.cathocoulommiers.fr/evenement/mercredi-des-cendres/
END:VEVENT
END:VCALENDAR
