BEGIN:VCALENDAR
VERSION:2.0
PRODID:-//Meaux//NONSGML v1.0//EN
CALSCALE:GREGORIAN
METHOD:PUBLISH
X-ORIGINAL-URL:https://www.cathocoulommiers.fr
BEGIN:VEVENT
DTSTART;VALUE=DATE:20250314
DTEND;VALUE=DATE:20250314
DTSTAMP:20260424T083237Z
CREATED:20250310
LAST-MODIFIED:20250310
UID:69eb2aa52a566-meaux
SUMMARY:VISIO pour le Jubilé des Jeunes à Rome
DESCRIPTION:VISIO pour le Jubilé des Jeunes à Rome
URL:https://www.cathocoulommiers.fr/evenement/visio-pour-le-jubile-des-jeunes-a-rome/
END:VEVENT
END:VCALENDAR
