BEGIN:VCALENDAR
VERSION:2.0
PRODID:-//Meaux//NONSGML v1.0//EN
CALSCALE:GREGORIAN
METHOD:PUBLISH
X-ORIGINAL-URL:https://www.cathocoulommiers.fr
BEGIN:VEVENT
DTSTART;VALUE=DATE:20250518
DTEND;VALUE=DATE:20250518
DTSTAMP:20260424T083540Z
CREATED:20250514
LAST-MODIFIED:20250514
UID:69eb2b5cc6684-meaux
SUMMARY:Brocante solidaire
DESCRIPTION:Brocante solidaire
URL:https://www.cathocoulommiers.fr/evenement/brocante-solidaire-2/
END:VEVENT
END:VCALENDAR
