BEGIN:VCALENDAR
VERSION:2.0
PRODID:-//Meaux//NONSGML v1.0//EN
CALSCALE:GREGORIAN
METHOD:PUBLISH
X-ORIGINAL-URL:https://www.cathocoulommiers.fr
BEGIN:VEVENT
DTSTART;VALUE=DATE:20250517
DTEND;VALUE=DATE:20250517
DTSTAMP:20260424T083409Z
CREATED:20250514
LAST-MODIFIED:20250514
UID:69eb2b018cecb-meaux
SUMMARY:Concert Mozart et Associés
DESCRIPTION:Concert Mozart et Associés
URL:https://www.cathocoulommiers.fr/evenement/concert-mozart-et-associes/
END:VEVENT
END:VCALENDAR
