BEGIN:VCALENDAR
VERSION:2.0
PRODID:-//Meaux//NONSGML v1.0//EN
CALSCALE:GREGORIAN
METHOD:PUBLISH
X-ORIGINAL-URL:https://www.cathocoulommiers.fr
BEGIN:VEVENT
DTSTART;VALUE=DATE:20250818
DTEND;VALUE=DATE:20250822
DTSTAMP:20260424T083257Z
CREATED:20250522
LAST-MODIFIED:20250522
UID:69eb2ab9a2200-meaux
SUMMARY:Pélé VTT Route de Seine-et-Marne
DESCRIPTION:Pélé VTT Route de Seine-et-Marne
URL:https://www.cathocoulommiers.fr/evenement/pele-vtt-route-de-seine-et-marne/
ATTACH;FMTTYPE=image/png:https://www.cathocoulommiers.fr/wp-content/uploads/sites/3/2025/05/affiche-pele-vtt-77-2025-carre.png
END:VEVENT
END:VCALENDAR
