BEGIN:VCALENDAR
VERSION:2.0
PRODID:-//Meaux//NONSGML v1.0//EN
CALSCALE:GREGORIAN
METHOD:PUBLISH
X-ORIGINAL-URL:https://www.cathocoulommiers.fr
BEGIN:VEVENT
DTSTART;VALUE=DATE:20250529
DTEND;VALUE=DATE:20250529
DTSTAMP:20260422T040924Z
CREATED:20250522
LAST-MODIFIED:20250522
UID:69e849f4539af-meaux
SUMMARY:Jubilé 2025 : Pèlerinage diocésain
DESCRIPTION:Jubilé 2025 : Pèlerinage diocésain
URL:https://www.cathocoulommiers.fr/evenement/jubile-2025-pelerinage-diocesain/
ATTACH;FMTTYPE=image/jpeg:https://www.cathocoulommiers.fr/wp-content/uploads/sites/3/2025/05/jubile.jpg
END:VEVENT
END:VCALENDAR
