BEGIN:VCALENDAR
VERSION:2.0
PRODID:-//Meaux//NONSGML v1.0//EN
CALSCALE:GREGORIAN
METHOD:PUBLISH
X-ORIGINAL-URL:https://www.cathocoulommiers.fr
BEGIN:VEVENT
DTSTART;VALUE=DATE:20250529
DTEND;VALUE=DATE:20250529
DTSTAMP:20260422T040724Z
CREATED:20250524
LAST-MODIFIED:20250524
UID:69e8497c9a1d6-meaux
SUMMARY:L’Ascension du Christ
DESCRIPTION:L’Ascension du Christ
URL:https://www.cathocoulommiers.fr/evenement/lascension-du-christ/
END:VEVENT
END:VCALENDAR
