BEGIN:VCALENDAR
VERSION:2.0
PRODID:-//Meaux//NONSGML v1.0//EN
CALSCALE:GREGORIAN
METHOD:PUBLISH
X-ORIGINAL-URL:https://www.cathocoulommiers.fr
BEGIN:VEVENT
DTSTART;VALUE=DATE:20250607
DTEND;VALUE=DATE:20250608
DTSTAMP:20260422T040843Z
CREATED:20250524
LAST-MODIFIED:20250524
UID:69e849cb7e3e9-meaux
SUMMARY:Pentecôte
DESCRIPTION:Pentecôte
URL:https://www.cathocoulommiers.fr/evenement/pentecote/
END:VEVENT
END:VCALENDAR
