BEGIN:VCALENDAR
VERSION:2.0
PRODID:-//Meaux//NONSGML v1.0//EN
CALSCALE:GREGORIAN
METHOD:PUBLISH
X-ORIGINAL-URL:https://www.cathocoulommiers.fr
BEGIN:VEVENT
DTSTART;VALUE=DATE:20250614
DTEND;VALUE=DATE:20250614
DTSTAMP:20260422T040959Z
CREATED:20250527
LAST-MODIFIED:20250527
UID:69e84a17712bf-meaux
SUMMARY:Bourse d’échange de livres
DESCRIPTION:Bourse d’échange de livres
URL:https://www.cathocoulommiers.fr/evenement/bourse-dechange-de-livres-2/
END:VEVENT
END:VCALENDAR
