BEGIN:VCALENDAR
VERSION:2.0
PRODID:-//Meaux//NONSGML v1.0//EN
CALSCALE:GREGORIAN
METHOD:PUBLISH
X-ORIGINAL-URL:https://www.cathocoulommiers.fr
BEGIN:VEVENT
DTSTART;VALUE=DATE:20250701
DTEND;VALUE=DATE:20250731
DTSTAMP:20260422T040812Z
CREATED:20250707
LAST-MODIFIED:20250707
UID:69e849ace4ea8-meaux
SUMMARY:Horaires des messes de juillet 2025
DESCRIPTION:Horaires des messes de juillet 2025
URL:https://www.cathocoulommiers.fr/evenement/horaires-des-messes-de-juillet-2025/
END:VEVENT
END:VCALENDAR
