BEGIN:VCALENDAR
VERSION:2.0
PRODID:-//Meaux//NONSGML v1.0//EN
CALSCALE:GREGORIAN
METHOD:PUBLISH
X-ORIGINAL-URL:https://www.cathocoulommiers.fr
BEGIN:VEVENT
DTSTART;VALUE=DATE:20250801
DTEND;VALUE=DATE:20250831
DTSTAMP:20260424T101443Z
CREATED:20250707
LAST-MODIFIED:20250707
UID:69eb4293572ac-meaux
SUMMARY:Horaire des messes d'août 2025
DESCRIPTION:Horaire des messes d'août 2025
URL:https://www.cathocoulommiers.fr/evenement/horaire-des-messes-daout-2025/
END:VEVENT
END:VCALENDAR
