BEGIN:VCALENDAR
VERSION:2.0
PRODID:-//Meaux//NONSGML v1.0//EN
CALSCALE:GREGORIAN
METHOD:PUBLISH
X-ORIGINAL-URL:https://www.cathocoulommiers.fr
BEGIN:VEVENT
DTSTART;VALUE=DATE:20250906
DTEND;VALUE=DATE:20250906
DTSTAMP:20260424T113045Z
CREATED:20250707
LAST-MODIFIED:20250707
UID:69eb5465485cf-meaux
SUMMARY:Inscription catéchèse
DESCRIPTION:Inscription catéchèse
URL:https://www.cathocoulommiers.fr/evenement/inscription-catechese/
END:VEVENT
END:VCALENDAR
