BEGIN:VCALENDAR
VERSION:2.0
PRODID:-//Meaux//NONSGML v1.0//EN
CALSCALE:GREGORIAN
METHOD:PUBLISH
X-ORIGINAL-URL:https://www.cathocoulommiers.fr
BEGIN:VEVENT
DTSTART;VALUE=DATE:20250711
DTEND;VALUE=DATE:20250829
DTSTAMP:20260422T022756Z
CREATED:20250709
LAST-MODIFIED:20250709
UID:69e8322cee27b-meaux
SUMMARY:L'Oasis\, ouverture du vestiaire été 2025
DESCRIPTION:L'Oasis\, ouverture du vestiaire été 2025
URL:https://www.cathocoulommiers.fr/evenement/loasis-ouverture-du-vestiaire-ete-2025/
END:VEVENT
END:VCALENDAR
