BEGIN:VCALENDAR
VERSION:2.0
PRODID:-//Meaux//NONSGML v1.0//EN
CALSCALE:GREGORIAN
METHOD:PUBLISH
X-ORIGINAL-URL:https://www.cathocoulommiers.fr
BEGIN:VEVENT
DTSTART;VALUE=DATE:20250906
DTEND;VALUE=DATE:20250906
DTSTAMP:20260422T022900Z
CREATED:20250709
LAST-MODIFIED:20250709
UID:69e8326c06fa0-meaux
SUMMARY:Pèlerinage diocésain à la cathédrale Notre-Dame de Paris
DESCRIPTION:Pèlerinage diocésain à la cathédrale Notre-Dame de Paris
URL:https://www.cathocoulommiers.fr/evenement/pelerinage-diocesain-a-la-cathedrale-notre-dame-de-paris/
END:VEVENT
END:VCALENDAR
