BEGIN:VCALENDAR
VERSION:2.0
PRODID:-//Meaux//NONSGML v1.0//EN
CALSCALE:GREGORIAN
METHOD:PUBLISH
X-ORIGINAL-URL:https://www.cathocoulommiers.fr
BEGIN:VEVENT
DTSTART;VALUE=DATE:20250901
DTEND;VALUE=DATE:20250930
DTSTAMP:20260422T003629Z
CREATED:20250829
LAST-MODIFIED:20250829
UID:69e8180d1af6c-meaux
SUMMARY:Planning des messes de septembre
DESCRIPTION:Planning des messes de septembre
URL:https://www.cathocoulommiers.fr/evenement/planning-des-messes-de-septembre/
END:VEVENT
END:VCALENDAR
