BEGIN:VCALENDAR
VERSION:2.0
PRODID:-//Meaux//NONSGML v1.0//EN
CALSCALE:GREGORIAN
METHOD:PUBLISH
X-ORIGINAL-URL:https://www.cathocoulommiers.fr
BEGIN:VEVENT
DTSTART;VALUE=DATE:20250928
DTEND;VALUE=DATE:20250928
DTSTAMP:20260422T022640Z
CREATED:20250901
LAST-MODIFIED:20250901
UID:69e831e01c707-meaux
SUMMARY:concert Les Chardons du Baragan
DESCRIPTION:concert Les Chardons du Baragan
URL:https://www.cathocoulommiers.fr/evenement/concert-les-chardons-du-baragan/
END:VEVENT
END:VCALENDAR
