BEGIN:VCALENDAR
VERSION:2.0
PRODID:-//Meaux//NONSGML v1.0//EN
CALSCALE:GREGORIAN
METHOD:PUBLISH
X-ORIGINAL-URL:https://www.cathocoulommiers.fr
BEGIN:VEVENT
DTSTART;VALUE=DATE:20250927
DTEND;VALUE=DATE:20250927
DTSTAMP:20260422T003433Z
CREATED:20250901
LAST-MODIFIED:20250901
UID:69e8179973112-meaux
SUMMARY:Concert Ensemble Vocal Chorège
DESCRIPTION:Concert Ensemble Vocal Chorège
URL:https://www.cathocoulommiers.fr/evenement/concert-ensemble-vocal-chorege/
END:VEVENT
END:VCALENDAR
