BEGIN:VCALENDAR
VERSION:2.0
PRODID:-//Meaux//NONSGML v1.0//EN
CALSCALE:GREGORIAN
METHOD:PUBLISH
X-ORIGINAL-URL:https://www.cathocoulommiers.fr
BEGIN:VEVENT
DTSTART;VALUE=DATE:20250901
DTEND;VALUE=DATE:20250930
DTSTAMP:20260422T022703Z
CREATED:20250901
LAST-MODIFIED:20250901
UID:69e831f7174eb-meaux
SUMMARY:Différents lieux d'inscription au catéchisme
DESCRIPTION:Différents lieux d'inscription au catéchisme
URL:https://www.cathocoulommiers.fr/evenement/differents-lieux-dinscription-au-catechisme/
END:VEVENT
END:VCALENDAR
