BEGIN:VCALENDAR
VERSION:2.0
PRODID:-//Meaux//NONSGML v1.0//EN
CALSCALE:GREGORIAN
METHOD:PUBLISH
X-ORIGINAL-URL:https://www.cathocoulommiers.fr
BEGIN:VEVENT
DTSTART;VALUE=DATE:20250901
DTEND;VALUE=DATE:20250930
DTSTAMP:20260422T003504Z
CREATED:20250901
LAST-MODIFIED:20250901
UID:69e817b8bd5ac-meaux
SUMMARY:Aumônerie
DESCRIPTION:Aumônerie
URL:https://www.cathocoulommiers.fr/evenement/aumonerie/
END:VEVENT
END:VCALENDAR
