BEGIN:VCALENDAR
VERSION:2.0
PRODID:-//Meaux//NONSGML v1.0//EN
CALSCALE:GREGORIAN
METHOD:PUBLISH
X-ORIGINAL-URL:https://www.cathocoulommiers.fr
BEGIN:VEVENT
DTSTART;VALUE=DATE:20251004
DTEND;VALUE=DATE:20251021
DTSTAMP:20260421T230518Z
CREATED:20250901
LAST-MODIFIED:20250901
UID:69e802aee4213-meaux
SUMMARY:Initiation à l’écriture d’une icône
DESCRIPTION:Initiation à l’écriture d’une icône
URL:https://www.cathocoulommiers.fr/evenement/initiation-a-lecriture-dune-icone/
ATTACH;FMTTYPE=image/jpeg:https://www.cathocoulommiers.fr/wp-content/uploads/sites/3/2025/09/image2-1.jpg
END:VEVENT
END:VCALENDAR
