BEGIN:VCALENDAR
VERSION:2.0
PRODID:-//Meaux//NONSGML v1.0//EN
CALSCALE:GREGORIAN
METHOD:PUBLISH
X-ORIGINAL-URL:https://www.cathocoulommiers.fr
BEGIN:VEVENT
DTSTART;VALUE=DATE:20250920
DTEND;VALUE=DATE:20250921
DTSTAMP:20260421T230622Z
CREATED:20250901
LAST-MODIFIED:20250901
UID:69e802ee19867-meaux
SUMMARY:Journées du patrimoine à l'abbaye de Faremoutiers
DESCRIPTION:Journées du patrimoine à l'abbaye de Faremoutiers
URL:https://www.cathocoulommiers.fr/evenement/journees-du-patrimoine-a-labbaye-de-faremoutiers/
END:VEVENT
END:VCALENDAR
