BEGIN:VCALENDAR
VERSION:2.0
PRODID:-//Meaux//NONSGML v1.0//EN
CALSCALE:GREGORIAN
METHOD:PUBLISH
X-ORIGINAL-URL:https://www.cathocoulommiers.fr
BEGIN:VEVENT
DTSTART;VALUE=DATE:20251101
DTEND;VALUE=DATE:20251101
DTSTAMP:20260421T230513Z
CREATED:20251020
LAST-MODIFIED:20251020
UID:69e802a9666c9-meaux
SUMMARY:La Toussaint \, messes
DESCRIPTION:La Toussaint \, messes
URL:https://www.cathocoulommiers.fr/evenement/la-toussaint-messes/
END:VEVENT
END:VCALENDAR
