BEGIN:VCALENDAR
VERSION:2.0
PRODID:-//Meaux//NONSGML v1.0//EN
CALSCALE:GREGORIAN
METHOD:PUBLISH
X-ORIGINAL-URL:https://www.cathocoulommiers.fr
BEGIN:VEVENT
DTSTART;VALUE=DATE:20251102
DTEND;VALUE=DATE:20251102
DTSTAMP:20260421T230906Z
CREATED:20251020
LAST-MODIFIED:20251020
UID:69e8039205066-meaux
SUMMARY:Jour de prière des défunts \, 2 novembre
DESCRIPTION:Jour de prière des défunts \, 2 novembre
URL:https://www.cathocoulommiers.fr/evenement/jour-de-priere-des-defunts-2-novembre/
END:VEVENT
END:VCALENDAR
