BEGIN:VCALENDAR
VERSION:2.0
PRODID:-//Meaux//NONSGML v1.0//EN
CALSCALE:GREGORIAN
METHOD:PUBLISH
X-ORIGINAL-URL:https://www.cathocoulommiers.fr
BEGIN:VEVENT
DTSTART;VALUE=DATE:20251031
DTEND;VALUE=DATE:20251031
DTSTAMP:20260422T003621Z
CREATED:20251022
LAST-MODIFIED:20251022
UID:69e8180577bfc-meaux
SUMMARY:Veillée de prière: Tous appelés à la Sainteté
DESCRIPTION:Veillée de prière: Tous appelés à la Sainteté
URL:https://www.cathocoulommiers.fr/evenement/veillee-de-priere-tous-appeles-a-la-saintete/
END:VEVENT
END:VCALENDAR
