BEGIN:VCALENDAR
VERSION:2.0
PRODID:-//Meaux//NONSGML v1.0//EN
CALSCALE:GREGORIAN
METHOD:PUBLISH
X-ORIGINAL-URL:https://www.cathocoulommiers.fr
BEGIN:VEVENT
DTSTART;VALUE=DATE:20251104
DTEND;VALUE=DATE:20251104
DTSTAMP:20260421T213719Z
CREATED:20251102
LAST-MODIFIED:20251102
UID:69e7ee0f57dac-meaux
SUMMARY:Groupe biblique à 20H30
DESCRIPTION:Groupe biblique à 20H30
URL:https://www.cathocoulommiers.fr/evenement/groupe-biblique/
END:VEVENT
END:VCALENDAR
