BEGIN:VCALENDAR
VERSION:2.0
PRODID:-//Meaux//NONSGML v1.0//EN
CALSCALE:GREGORIAN
METHOD:PUBLISH
X-ORIGINAL-URL:https://www.cathocoulommiers.fr
BEGIN:VEVENT
DTSTART;VALUE=DATE:20251129
DTEND;VALUE=DATE:20251129
DTSTAMP:20260423T100940Z
CREATED:20251120
LAST-MODIFIED:20251120
UID:69e9efe43738d-meaux
SUMMARY:Veillée de prière d'entrée dans l'Avent
DESCRIPTION:Veillée de prière d'entrée dans l'Avent
URL:https://www.cathocoulommiers.fr/evenement/veillee-de-priere-dentree-dans-lavent/
END:VEVENT
END:VCALENDAR
