BEGIN:VCALENDAR
VERSION:2.0
PRODID:-//Meaux//NONSGML v1.0//EN
CALSCALE:GREGORIAN
METHOD:PUBLISH
X-ORIGINAL-URL:https://www.cathocoulommiers.fr
BEGIN:VEVENT
DTSTART;VALUE=DATE:20251207
DTEND;VALUE=DATE:20251207
DTSTAMP:20260423T084038Z
CREATED:20251120
LAST-MODIFIED:20251120
UID:69e9db06bd956-meaux
SUMMARY:Fête de l'Immaculée Conception \, chapelet aux flambeaux à 17h30
DESCRIPTION:Fête de l'Immaculée Conception \, chapelet aux flambeaux à 17h30
URL:https://www.cathocoulommiers.fr/evenement/fete-de-limmaculee-conception-chapelet-aux-flambeaux-a-17h30/
END:VEVENT
END:VCALENDAR
