BEGIN:VCALENDAR
VERSION:2.0
PRODID:-//Meaux//NONSGML v1.0//EN
CALSCALE:GREGORIAN
METHOD:PUBLISH
X-ORIGINAL-URL:https://www.cathocoulommiers.fr
BEGIN:VEVENT
DTSTART;VALUE=DATE:20251206
DTEND;VALUE=DATE:20251206
DTSTAMP:20260421T212714Z
CREATED:20251120
LAST-MODIFIED:20251120
UID:69e7ebb247e72-meaux
SUMMARY:Messe de la sainte Barbe
DESCRIPTION:Messe de la sainte Barbe
URL:https://www.cathocoulommiers.fr/evenement/messe-de-la-sainte-barbe/
END:VEVENT
END:VCALENDAR
