BEGIN:VCALENDAR
VERSION:2.0
PRODID:-//Meaux//NONSGML v1.0//EN
CALSCALE:GREGORIAN
METHOD:PUBLISH
X-ORIGINAL-URL:https://www.cathocoulommiers.fr
BEGIN:VEVENT
DTSTART;VALUE=DATE:20251224
DTEND;VALUE=DATE:20251224
DTSTAMP:20260421T195838Z
CREATED:20251126
LAST-MODIFIED:20251126
UID:69e7d6ee8bd21-meaux
SUMMARY:VIGILE DE NOËL
DESCRIPTION:VIGILE DE NOËL
URL:https://www.cathocoulommiers.fr/evenement/vigile-de-noel/
END:VEVENT
END:VCALENDAR
