BEGIN:VCALENDAR
VERSION:2.0
PRODID:-//Meaux//NONSGML v1.0//EN
CALSCALE:GREGORIAN
METHOD:PUBLISH
X-ORIGINAL-URL:https://www.cathocoulommiers.fr
BEGIN:VEVENT
DTSTART;VALUE=DATE:20251225
DTEND;VALUE=DATE:20251225
DTSTAMP:20260421T212828Z
CREATED:20251126
LAST-MODIFIED:20251126
UID:69e7ebfc8b441-meaux
SUMMARY:JOUR DE NOËL
DESCRIPTION:JOUR DE NOËL
URL:https://www.cathocoulommiers.fr/evenement/jour-de-noel/
END:VEVENT
END:VCALENDAR
