BEGIN:VCALENDAR
VERSION:2.0
PRODID:-//Meaux//NONSGML v1.0//EN
CALSCALE:GREGORIAN
METHOD:PUBLISH
X-ORIGINAL-URL:https://www.cathocoulommiers.fr
BEGIN:VEVENT
DTSTART;VALUE=DATE:20251214
DTEND;VALUE=DATE:20251214
DTSTAMP:20260421T213452Z
CREATED:20251126
LAST-MODIFIED:20251126
UID:69e7ed7cf3141-meaux
SUMMARY:LUMIÈRE DE LA PAIX DE  BETHLÉEM
DESCRIPTION:LUMIÈRE DE LA PAIX DE  BETHLÉEM
URL:https://www.cathocoulommiers.fr/evenement/lumiere-de-la-paix-de-bethleem/
END:VEVENT
END:VCALENDAR
