BEGIN:VCALENDAR
VERSION:2.0
PRODID:-//Meaux//NONSGML v1.0//EN
CALSCALE:GREGORIAN
METHOD:PUBLISH
X-ORIGINAL-URL:https://www.cathocoulommiers.fr
BEGIN:VEVENT
DTSTART;VALUE=DATE:20251213
DTEND;VALUE=DATE:20251213
DTSTAMP:20260421T180944Z
CREATED:20251126
LAST-MODIFIED:20251126
UID:69e7bd68b7bd8-meaux
SUMMARY:CONCERT DE NOËL
DESCRIPTION:CONCERT DE NOËL
URL:https://www.cathocoulommiers.fr/evenement/concert-de-noel/
END:VEVENT
END:VCALENDAR
