BEGIN:VCALENDAR
VERSION:2.0
PRODID:-//Meaux//NONSGML v1.0//EN
CALSCALE:GREGORIAN
METHOD:PUBLISH
X-ORIGINAL-URL:https://www.cathocoulommiers.fr
BEGIN:VEVENT
DTSTART;VALUE=DATE:20251209
DTEND;VALUE=DATE:20251209
DTSTAMP:20260421T221523Z
CREATED:20251128
LAST-MODIFIED:20251128
UID:69e7f6fb5f47e-meaux
SUMMARY:PARTAGE BIBLIQUE
DESCRIPTION:PARTAGE BIBLIQUE
URL:https://www.cathocoulommiers.fr/evenement/partage-biblique/
END:VEVENT
END:VCALENDAR
