BEGIN:VCALENDAR
VERSION:2.0
PRODID:-//Meaux//NONSGML v1.0//EN
CALSCALE:GREGORIAN
METHOD:PUBLISH
X-ORIGINAL-URL:https://www.cathocoulommiers.fr
BEGIN:VEVENT
DTSTART;VALUE=DATE:20251220
DTEND;VALUE=DATE:20251220
DTSTAMP:20260421T181112Z
CREATED:20251210
LAST-MODIFIED:20251210
UID:69e7bdc0173d7-meaux
SUMMARY:VENTE SOLIDAIRE DE VÊTEMENTS A OASIS DE 10H A 12H
DESCRIPTION:VENTE SOLIDAIRE DE VÊTEMENTS A OASIS DE 10H A 12H
URL:https://www.cathocoulommiers.fr/evenement/vente-solidaire-de-vetements-a-oasis-de-10h-a-12h/
END:VEVENT
END:VCALENDAR
