BEGIN:VCALENDAR
VERSION:2.0
PRODID:-//Meaux//NONSGML v1.0//EN
CALSCALE:GREGORIAN
METHOD:PUBLISH
X-ORIGINAL-URL:https://www.cathocoulommiers.fr
BEGIN:VEVENT
DTSTART;VALUE=DATE:20251220
DTEND;VALUE=DATE:20251220
DTSTAMP:20260421T182101Z
CREATED:20251210
LAST-MODIFIED:20251210
UID:69e7c00ddc0d5-meaux
SUMMARY:CHANTÉ NWEL 19H30
DESCRIPTION:CHANTÉ NWEL 19H30
URL:https://www.cathocoulommiers.fr/evenement/chante-nwel-19h30/
END:VEVENT
END:VCALENDAR
