BEGIN:VCALENDAR
VERSION:2.0
PRODID:-//Meaux//NONSGML v1.0//EN
CALSCALE:GREGORIAN
METHOD:PUBLISH
X-ORIGINAL-URL:https://www.cathocoulommiers.fr
BEGIN:VEVENT
DTSTART;VALUE=DATE:20251225
DTEND;VALUE=DATE:20251225
DTSTAMP:20260421T181237Z
CREATED:20251210
LAST-MODIFIED:20251210
UID:69e7be15bd183-meaux
SUMMARY:REPAS DE NOËL SOLIDAIRE
DESCRIPTION:REPAS DE NOËL SOLIDAIRE
URL:https://www.cathocoulommiers.fr/evenement/repas-de-noel-solidaire/
END:VEVENT
END:VCALENDAR
