BEGIN:VCALENDAR
VERSION:2.0
PRODID:-//Meaux//NONSGML v1.0//EN
CALSCALE:GREGORIAN
METHOD:PUBLISH
X-ORIGINAL-URL:https://www.cathocoulommiers.fr
BEGIN:VEVENT
DTSTART;VALUE=DATE:20260104
DTEND;VALUE=DATE:20260104
DTSTAMP:20260421T163629Z
CREATED:20251210
LAST-MODIFIED:20251210
UID:69e7a78dee088-meaux
SUMMARY:ÉPIPHANIE
DESCRIPTION:ÉPIPHANIE
URL:https://www.cathocoulommiers.fr/evenement/epiphanie/
END:VEVENT
END:VCALENDAR
