BEGIN:VCALENDAR
VERSION:2.0
PRODID:-//Meaux//NONSGML v1.0//EN
CALSCALE:GREGORIAN
METHOD:PUBLISH
X-ORIGINAL-URL:https://www.cathocoulommiers.fr
BEGIN:VEVENT
DTSTART;VALUE=DATE:20260106
DTEND;VALUE=DATE:20260106
DTSTAMP:20260421T164156Z
CREATED:20260101
LAST-MODIFIED:20260101
UID:69e7a8d421d9e-meaux
SUMMARY:GROUPE BIBLIQUE
DESCRIPTION:GROUPE BIBLIQUE
URL:https://www.cathocoulommiers.fr/evenement/groupe-biblique-2/
END:VEVENT
END:VCALENDAR
