BEGIN:VCALENDAR
VERSION:2.0
PRODID:-//Meaux//NONSGML v1.0//EN
CALSCALE:GREGORIAN
METHOD:PUBLISH
X-ORIGINAL-URL:https://www.cathocoulommiers.fr
BEGIN:VEVENT
DTSTART;VALUE=DATE:20260129
DTEND;VALUE=DATE:20260208
DTSTAMP:20260421T145525Z
CREATED:20260129
LAST-MODIFIED:20260129
UID:69e78fdda0d46-meaux
SUMMARY:Exposition du Saint Sépulcre en l'église de Coulommiers
DESCRIPTION:Exposition du Saint Sépulcre en l'église de Coulommiers
URL:https://www.cathocoulommiers.fr/evenement/exposition-du-saint-sepulcre-en-leglise-de-coulommiers/
END:VEVENT
END:VCALENDAR
