BEGIN:VCALENDAR
VERSION:2.0
PRODID:-//Meaux//NONSGML v1.0//EN
CALSCALE:GREGORIAN
METHOD:PUBLISH
X-ORIGINAL-URL:https://www.cathocoulommiers.fr
BEGIN:VEVENT
DTSTART;VALUE=DATE:20260516
DTEND;VALUE=DATE:20260516
DTSTAMP:20260425T162906Z
CREATED:20260425
LAST-MODIFIED:20260425
UID:69ecebd232ca3-meaux
SUMMARY:SACREMENT DES MALADES \, pour qui ?\, quand ?
DESCRIPTION:SACREMENT DES MALADES \, pour qui ?\, quand ?
URL:https://www.cathocoulommiers.fr/evenement/sacrement-des-malades-pour-qui-quand/
END:VEVENT
END:VCALENDAR
